View In:
ArcGIS JavaScript
ArcGIS Online Map Viewer
ArcGIS Earth
ArcMap
View Footprint In:
ArcGIS Online Map Viewer
Service Description: CERES/cer_syn1deg_1hour_terra_aqua_modis_sample_crf
Name: CERES/cer_syn1deg_1hour_terra_aqua_modis_sample_crf
Description:
Single Fused Map Cache: false
Extent:
XMin: -2.0037507842788246E7
YMin: -3.024097145838615E7
XMax: 2.009848736484925E7
YMax: 3.024097145838615E7
Spatial Reference: 102100
(3857)
Initial Extent:
XMin: -2.0037507842788246E7
YMin: -3.024097145838615E7
XMax: 2.009848736484925E7
YMax: 3.024097145838615E7
Spatial Reference: 102100
(3857)
Full Extent:
XMin: -2.0037507842788246E7
YMin: -3.024097145838615E7
XMax: 2.009848736484925E7
YMax: 3.024097145838615E7
Spatial Reference: 102100
(3857)
Time Info:
Start Time Field: StdTime
End Time Field: StdTime
Time Extent:
[2018/01/01 00:00:00 UTC, 2018/01/03 23:00:00 UTC]
Time Reference:
N/A
Pixel Size X: 111180.04212641966
Pixel Size Y: 111180.04212641966
Band Count: 1
Pixel Type: F32
RasterFunction Infos: {"rasterFunctionInfos": [
{
"name": "init_all_sfc_sw_dn",
"description": "A raster function template.",
"help": ""
},
{
"name": "all_sfc_sw_diff",
"description": "A raster function template.",
"help": ""
},
{
"name": "all_sfc_sw_dir",
"description": "A raster function template.",
"help": ""
},
{
"name": "clr_sfc_sw_diff",
"description": "A raster function template.",
"help": ""
},
{
"name": "clr_sfc_sw_dir",
"description": "A raster function template.",
"help": ""
},
{
"name": "init_clr_sfc_sw_dn",
"description": "A raster function template.",
"help": ""
},
{
"name": "None",
"description": "",
"help": ""
}
]}
Mensuration Capabilities: Basic
Has Histograms: true
Has Colormap: false
Has Multi Dimensions : true
Rendering Rule:
Min Scale: 0
Max Scale: 0
Copyright Text:
Service Data Type: esriImageServiceDataTypeScientific
Min Values: 0
Max Values: 1494.0250244140625
Mean Values: 144.83865138398335
Standard Deviation Values: 217.2237459966859
Object ID Field:
Fields:
None
Default Mosaic Method: Center
Allowed Mosaic Methods:
SortField:
SortValue: null
Mosaic Operator: First
Default Compression Quality: 10000
Default Resampling Method: Bilinear
Max Record Count: null
Max Image Height: 4100
Max Image Width: 15000
Max Download Image Count: null
Max Mosaic Image Count: null
Allow Raster Function: true
Allow Copy: true
Allow Analysis: true
Allow Compute TiePoints: false
Supports Statistics: false
Supports Advanced Queries: false
Use StandardizedQueries: true
Raster Type Infos:
Name: Raster Dataset
Description: Supports all ArcGIS Raster Datasets
Help:
Has Raster Attribute Table: false
Edit Fields Info: null
Ownership Based AccessControl For Rasters: null
Child Resources:
Info
Histograms
Statistics
Key Properties
Legend
Raster Function Infos
Multidimensional Info
Slices
Supported Operations:
Export Image
Identify
Measure
Compute Histograms
Compute Statistics Histograms
Get Samples
Compute Class Statistics
Query Boundary
Compute Pixel Location
Compute Angles
Validate
Project