View In:
ArcGIS JavaScript
ArcGIS Online Map Viewer
ArcGIS Earth
ArcMap
View Footprint In:
ArcGIS Online Map Viewer
Service Description: Hailstorm/ir_ot_2011_mean_crf
Name: Hailstorm/ir_ot_2011_mean_crf
Description:
Single Fused Map Cache: false
Extent:
XMin: 1459080.423382019
YMin: -4410961.637751981
XMax: 3960787.274435593
YMax: -2273030.991499999
Spatial Reference: 102100
(3857)
Initial Extent:
XMin: 1459080.423382019
YMin: -4410961.637751981
XMax: 3960787.274435593
YMax: -2273030.991499999
Spatial Reference: 102100
(3857)
Full Extent:
XMin: 1459080.423382019
YMin: -4410961.637751981
XMax: 3960787.274435593
YMax: -2273030.991499999
Spatial Reference: 102100
(3857)
Time Info:
Start Time Field: StdTime
End Time Field: StdTime_Max
Time Extent:
[2011/01/01 00:00:00 UTC, 2011/12/01 00:00:00 UTC]
Time Reference:
N/A
Pixel Size X: 2981.772170504856
Pixel Size Y: 2981.7721705048557
Band Count: 1
Pixel Type: F32
RasterFunction Infos: {"rasterFunctionInfos": [{
"name": "None",
"description": "",
"help": ""
}]}
Mensuration Capabilities: Basic
Has Histograms: true
Has Colormap: false
Has Multi Dimensions : true
Rendering Rule:
Min Scale: 0
Max Scale: 0
Copyright Text:
Service Data Type: esriImageServiceDataTypeScientific
Min Values: 0
Max Values: 1.25
Mean Values: 0.1722094875399288
Standard Deviation Values: 0.16408623275434248
Object ID Field:
Fields:
None
Default Mosaic Method: Center
Allowed Mosaic Methods:
SortField:
SortValue: null
Mosaic Operator: First
Default Compression Quality: 10000
Default Resampling Method: Bilinear
Max Record Count: null
Max Image Height: 4100
Max Image Width: 15000
Max Download Image Count: null
Max Mosaic Image Count: null
Allow Raster Function: true
Allow Copy: true
Allow Analysis: true
Allow Compute TiePoints: false
Supports Statistics: false
Supports Advanced Queries: false
Use StandardizedQueries: true
Raster Type Infos:
Name: Raster Dataset
Description: Supports all ArcGIS Raster Datasets
Help:
Has Raster Attribute Table: false
Edit Fields Info: null
Ownership Based AccessControl For Rasters: null
Child Resources:
Info
Histograms
Statistics
Key Properties
Legend
Raster Function Infos
Multidimensional Info
Slices
Supported Operations:
Export Image
Identify
Measure
Compute Histograms
Compute Statistics Histograms
Get Samples
Compute Class Statistics
Query Boundary
Compute Pixel Location
Compute Angles
Validate
Project