View In:
ArcGIS JavaScript
ArcGIS Online Map Viewer
ArcGIS Earth
ArcMap
View Footprint In:
ArcGIS Online Map Viewer
Service Description: MOPITT, MOP03JM
Name: MOPITT/MOP03JM_008
Description: MOPITT, MOP03JM
Single Fused Map Cache: false
Extent:
XMin: -180
YMin: -90
XMax: 180
YMax: 90
Spatial Reference: 4326
(4326)
Initial Extent:
XMin: -180
YMin: -90
XMax: 180
YMax: 90
Spatial Reference: 4326
(4326)
Full Extent:
XMin: -180
YMin: -90
XMax: 180
YMax: 90
Spatial Reference: 4326
(4326)
Time Info:
Start Time Field: StdTime
End Time Field: StdTime_Max
Time Extent:
[2000/03/03 02:39:40 UTC, 2020/03/01 00:00:08 UTC]
Time Reference:
N/A
Pixel Size X: 1.0
Pixel Size Y: 1.0
Band Count: 1
Pixel Type: F32
RasterFunction Infos: {"rasterFunctionInfos": [
{
"name": "None",
"description": "Make a Raster or Raster Dataset into a Function Raster Dataset.",
"help": ""
},
{
"name": "aprioricomixingratioprofileday",
"description": "A raster function template.",
"help": ""
},
{
"name": "aprioricomixingratioprofilenight",
"description": "A raster function template.",
"help": ""
},
{
"name": "aprioricosurfacemixingratioday",
"description": "A raster function template.",
"help": ""
},
{
"name": "aprioricosurfacemixingrationight",
"description": "A raster function template.",
"help": ""
},
{
"name": "aprioricototalcolumnday",
"description": "A raster function template.",
"help": ""
},
{
"name": "aprioricototalcolumnnight",
"description": "A raster function template.",
"help": ""
},
{
"name": "apriorisurfaceemissivityday",
"description": "A raster function template.",
"help": ""
},
{
"name": "apriorisurfaceemissivitynight",
"description": "A raster function template.",
"help": ""
},
{
"name": "apriorisurfacetemperatureday",
"description": "A raster function template.",
"help": ""
},
{
"name": "apriorisurfacetemperaturenight",
"description": "A raster function template.",
"help": ""
},
{
"name": "degreesoffreedomforsignalday",
"description": "A raster function template.",
"help": ""
},
{
"name": "degreesoffreedomforsignalnight",
"description": "A raster function template.",
"help": ""
},
{
"name": "demaltitudeday",
"description": "A raster function template.",
"help": ""
},
{
"name": "demaltitudenight",
"description": "A raster function template.",
"help": ""
},
{
"name": "demaltitudevariabilityday",
"description": "A raster function template.",
"help": ""
},
{
"name": "demaltitudevariabilitynight",
"description": "A raster function template.",
"help": ""
},
{
"name": "dryaircolumnday",
"description": "A raster function template.",
"help": ""
},
{
"name": "dryaircolumnnight",
"description": "A raster function template.",
"help": ""
},
{
"name": "numberofpixelsday",
"description": "A raster function template.",
"help": ""
},
{
"name": "numberofpixelsnight",
"description": "A raster function template.",
"help": ""
},
{
"name": "retrievedcomixingratioprofileday",
"description": "A raster function template.",
"help": ""
},
{
"name": "retrievedcomixingratioprofilemeanuncertaintyday",
"description": "A raster function template.",
"help": ""
},
{
"name": "retrievedcomixingratioprofilemeanuncertaintynight",
"description": "A raster function template.",
"help": ""
},
{
"name": "retrievedcomixingratioprofilenight",
"description": "A raster function template.",
"help": ""
},
{
"name": "retrievedcomixingratioprofilevariabilityday",
"description": "A raster function template.",
"help": ""
},
{
"name": "retrievedcomixingratioprofilevariabilitynight",
"description": "A raster function template.",
"help": ""
},
{
"name": "retrievedcosurfacemixingratioday",
"description": "A raster function template.",
"help": ""
},
{
"name": "retrievedcosurfacemixingratiomeanuncertaintyday",
"description": "A raster function template.",
"help": ""
},
{
"name": "retrievedcosurfacemixingratiomeanuncertaintynight",
"description": "A raster function template.",
"help": ""
},
{
"name": "retrievedcosurfacemixingrationight",
"description": "A raster function template.",
"help": ""
},
{
"name": "retrievedcosurfacemixingratiovariabilityday",
"description": "A raster function template.",
"help": ""
},
{
"name": "retrievedcosurfacemixingratiovariabilitynight",
"description": "A raster function template.",
"help": ""
},
{
"name": "retrievedcototalcolumnday",
"description": "A raster function template.",
"help": ""
},
{
"name": "retrievedcototalcolumndiagnosticsday",
"description": "A raster function template.",
"help": ""
},
{
"name": "retrievedcototalcolumndiagnosticsnight",
"description": "A raster function template.",
"help": ""
},
{
"name": "retrievedcototalcolumnmeanuncertaintyday",
"description": "A raster function template.",
"help": ""
},
{
"name": "retrievedcototalcolumnmeanuncertaintynight",
"description": "A raster function template.",
"help": ""
},
{
"name": "retrievedcototalcolumnnight",
"description": "A raster function template.",
"help": ""
},
{
"name": "retrievedcototalcolumnvariabilityday",
"description": "A raster function template.",
"help": ""
},
{
"name": "retrievedcototalcolumnvariabilitynight",
"description": "A raster function template.",
"help": ""
},
{
"name": "retrievedsurfaceemissivityday",
"description": "A raster function template.",
"help": ""
},
{
"name": "retrievedsurfaceemissivitymeanuncertaintyday",
"description": "A raster function template.",
"help": ""
},
{
"name": "retrievedsurfaceemissivitymeanuncertaintynight",
"description": "A raster function template.",
"help": ""
},
{
"name": "retrievedsurfaceemissivitynight",
"description": "A raster function template.",
"help": ""
},
{
"name": "retrievedsurfaceemissivityvariabilityday",
"description": "A raster function template.",
"help": ""
},
{
"name": "retrievedsurfaceemissivityvariabilitynight",
"description": "A raster function template.",
"help": ""
},
{
"name": "retrievedsurfacetemperatureday",
"description": "A raster function template.",
"help": ""
},
{
"name": "retrievedsurfacetemperaturemeanuncertaintyday",
"description": "A raster function template.",
"help": ""
},
{
"name": "retrievedsurfacetemperaturemeanuncertaintynight",
"description": "A raster function template.",
"help": ""
},
{
"name": "retrievedsurfacetemperaturenight",
"description": "A raster function template.",
"help": ""
},
{
"name": "retrievedsurfacetemperaturevariabilityday",
"description": "A raster function template.",
"help": ""
},
{
"name": "retrievedsurfacetemperaturevariabilitynight",
"description": "A raster function template.",
"help": ""
},
{
"name": "satellitezenithangleday",
"description": "A raster function template.",
"help": ""
},
{
"name": "satellitezenithanglenight",
"description": "A raster function template.",
"help": ""
},
{
"name": "signalchi2day",
"description": "A raster function template.",
"help": ""
},
{
"name": "signalchi2night",
"description": "A raster function template.",
"help": ""
},
{
"name": "signalchi2variabilityday",
"description": "A raster function template.",
"help": ""
},
{
"name": "signalchi2variabilitynight",
"description": "A raster function template.",
"help": ""
},
{
"name": "solarzenithangleday",
"description": "A raster function template.",
"help": ""
},
{
"name": "solarzenithanglenight",
"description": "A raster function template.",
"help": ""
},
{
"name": "surfaceindexday",
"description": "A raster function template.",
"help": ""
},
{
"name": "surfaceindexnight",
"description": "A raster function template.",
"help": ""
},
{
"name": "surfacepressureday",
"description": "A raster function template.",
"help": ""
},
{
"name": "surfacepressurenight",
"description": "A raster function template.",
"help": ""
},
{
"name": "totalcolumnaveragingkernelday",
"description": "A raster function template.",
"help": ""
},
{
"name": "totalcolumnaveragingkernelnight",
"description": "A raster function template.",
"help": ""
},
{
"name": "watervaporcolumnday",
"description": "A raster function template.",
"help": ""
},
{
"name": "watervaporcolumnnight",
"description": "A raster function template.",
"help": ""
}
]}
Mensuration Capabilities: None
Has Histograms: true
Has Colormap: false
Has Multi Dimensions : true
Rendering Rule:
Min Scale: 0
Max Scale: 0
Copyright Text:
Service Data Type: esriImageServiceDataTypeScientific
Min Values: 11.015614213421939
Max Values: 79.81110602430999
Mean Values: 40.002986975974444
Standard Deviation Values: 19.244404781981967
Object ID Field: OBJECTID
Fields:
-
OBJECTID
(
type: esriFieldTypeOID, alias: OBJECTID
)
-
Shape
(
type: esriFieldTypeGeometry, alias: Shape
)
-
Name
(
type: esriFieldTypeString, alias: Name, length: 200
)
-
MinPS
(
type: esriFieldTypeDouble, alias: MinPS
)
-
MaxPS
(
type: esriFieldTypeDouble, alias: MaxPS
)
-
LowPS
(
type: esriFieldTypeDouble, alias: LowPS
)
-
HighPS
(
type: esriFieldTypeDouble, alias: HighPS
)
-
Category
(
type: esriFieldTypeInteger, alias: Category
, Coded Values:
[0: Unknown]
, [1: Primary]
, [2: Overview]
, ...6 more...
)
-
Tag
(
type: esriFieldTypeString, alias: Tag, length: 100
)
-
GroupName
(
type: esriFieldTypeString, alias: GroupName, length: 100
)
-
ProductName
(
type: esriFieldTypeString, alias: ProductName, length: 100
)
-
CenterX
(
type: esriFieldTypeDouble, alias: CenterX
)
-
CenterY
(
type: esriFieldTypeDouble, alias: CenterY
)
-
ZOrder
(
type: esriFieldTypeInteger, alias: ZOrder
)
-
Shape_Length
(
type: esriFieldTypeDouble, alias: Shape_Length
)
-
Shape_Area
(
type: esriFieldTypeDouble, alias: Shape_Area
)
-
Thumbnail
(
type: esriFieldTypeBlob, alias: Thumbnail
)
-
Variable
(
type: esriFieldTypeString, alias: Variable, length: 50
)
-
Dimensions
(
type: esriFieldTypeString, alias: Dimensions, length: 50
)
-
StdTime
(
type: esriFieldTypeDate, alias: Standard Time, length: 8
)
-
StdTime_Max
(
type: esriFieldTypeDate, alias: Standard Time Maximum, length: 8
)
-
StdPressure
(
type: esriFieldTypeDouble, alias: Standard Pressure
)
Default Mosaic Method: Northwest
Allowed Mosaic Methods: NorthWest,Center,LockRaster,ByAttribute,Nadir,Viewpoint,Seamline,None
SortField:
SortValue: null
Mosaic Operator: First
Default Compression Quality: 75
Default Resampling Method: Bilinear
Max Record Count: 1000
Max Image Height: 4100
Max Image Width: 15000
Max Download Image Count: 20
Max Mosaic Image Count: 20
Allow Raster Function: true
Allow Copy: null
Allow Analysis: null
Allow Compute TiePoints: false
Supports Statistics: true
Supports Advanced Queries: true
Use StandardizedQueries: true
Raster Type Infos:
Name: Raster Dataset
Description: Supports all ArcGIS Raster Datasets
Help:
Has Raster Attribute Table: false
Edit Fields Info: null
Ownership Based AccessControl For Rasters: null
Child Resources:
Info
Histograms
Key Properties
Legend
Raster Function Infos
Multidimensional Info
Supported Operations:
Export Image
Query
Identify
Compute Histograms
Compute Statistics Histograms
Get Samples
Compute Class Statistics
Query Boundary
Compute Pixel Location
Compute Angles
Validate
Project