View In:
ArcGIS JavaScript
ArcGIS Online Map Viewer
ArcGIS Earth
ArcMap
View Footprint In:
ArcGIS Online Map Viewer
Service Description: MOP03J_8 is the Measurements Of Pollution In The Troposphere (MOPITT) CO gridded daily means (Near and Thermal Infrared Radiances) version 8 product. It contains daily mean gridded versions of the daily Level 2 CO profile and total column retrievals. The averaging kernels associated with each retrieval are also gridded and included in the Level 3 files.
For a description of the file contents, refer to the File Spec Document. The MOPITT Level 2 Data Quality Statement contains additional information about the quality and the limitations of the retrievals. [From the MOPITT version 3 Level 3 Data Quality Summary] MOPITT was successfully launched into sun-synchronous polar orbit aboard Terra, NASA's first Earth Observing System spacecraft on December 18, 1999. The MOPITT instrument was constructed by a consortium of Canadian companies and funded by the Space Science Division of the Canadian Space Agency."
https://asdc.larc.nasa.gov/project/MOPITT/MOP03J_8
Name: MOPITT/mop03j_008
Description: MOP03J_8 is the Measurements Of Pollution In The Troposphere (MOPITT) CO gridded daily means (Near and Thermal Infrared Radiances) version 8 product. It contains daily mean gridded versions of the daily Level 2 CO profile and total column retrievals. The averaging kernels associated with each retrieval are also gridded and included in the Level 3 files.
For a description of the file contents, refer to the File Spec Document. The MOPITT Level 2 Data Quality Statement contains additional information about the quality and the limitations of the retrievals. [From the MOPITT version 3 Level 3 Data Quality Summary] MOPITT was successfully launched into sun-synchronous polar orbit aboard Terra, NASA's first Earth Observing System spacecraft on December 18, 1999. The MOPITT instrument was constructed by a consortium of Canadian companies and funded by the Space Science Division of the Canadian Space Agency."
https://asdc.larc.nasa.gov/project/MOPITT/MOP03J_8
Single Fused Map Cache: false
Extent:
XMin: -2.0037507842788246E7
YMin: -3.024097145838615E7
XMax: 2.0037507842788246E7
YMax: 3.024097145838615E7
Spatial Reference: 102100
(3857)
Initial Extent:
XMin: -2.0037507842788246E7
YMin: -3.024097145838615E7
XMax: 2.0037507842788246E7
YMax: 3.024097145838615E7
Spatial Reference: 102100
(3857)
Full Extent:
XMin: -2.0037507842788246E7
YMin: -3.024097145838615E7
XMax: 2.0037507842788246E7
YMax: 3.024097145838615E7
Spatial Reference: 102100
(3857)
Time Info:
Start Time Field: StdTime
End Time Field: EndTime
Time Extent:
[2000/03/03 00:00:00 UTC, 2020/03/22 23:59:59 UTC]
Time Reference:
N/A
Pixel Size X: 111319.48801549025
Pixel Size Y: 111180.04212641966
Band Count: 1
Pixel Type: F32
RasterFunction Infos: {"rasterFunctionInfos": [
{
"name": "APrioriCOTotalColumnDay",
"description": "A raster function template.",
"help": ""
},
{
"name": "None",
"description": "",
"help": ""
}
]}
Mensuration Capabilities: Basic
Has Histograms: false
Has Colormap: false
Has Multi Dimensions : true
Rendering Rule:
Min Scale: 0
Max Scale: 0
Copyright Text:
Service Data Type: esriImageServiceDataTypeScientific
Min Values: N/A
Max Values: N/A
Mean Values: N/A
Standard Deviation Values: N/A
Object ID Field: objectid
Fields:
-
objectid
(
type: esriFieldTypeOID, alias: OBJECTID
)
-
name
(
type: esriFieldTypeString, alias: Name, length: 200
)
-
minps
(
type: esriFieldTypeDouble, alias: MinPS
)
-
maxps
(
type: esriFieldTypeDouble, alias: MaxPS
)
-
lowps
(
type: esriFieldTypeDouble, alias: LowPS
)
-
highps
(
type: esriFieldTypeDouble, alias: HighPS
)
-
category
(
type: esriFieldTypeInteger, alias: Category
, Coded Values:
[0: Unknown]
, [1: Primary]
, [2: Overview]
, ...6 more...
)
-
tag
(
type: esriFieldTypeString, alias: Tag, length: 100
)
-
groupname
(
type: esriFieldTypeString, alias: GroupName, length: 100
)
-
productname
(
type: esriFieldTypeString, alias: ProductName, length: 100
)
-
centerx
(
type: esriFieldTypeDouble, alias: CenterX
)
-
centery
(
type: esriFieldTypeDouble, alias: CenterY
)
-
zorder
(
type: esriFieldTypeInteger, alias: ZOrder
)
-
variable
(
type: esriFieldTypeString, alias: variable, length: 50
)
-
dimensions
(
type: esriFieldTypeString, alias: dimensions, length: 50
)
-
stdtime
(
type: esriFieldTypeDate, alias: Start Time, length: 8
)
-
endtime
(
type: esriFieldTypeDate, alias: End Time, length: 8
)
-
long_name
(
type: esriFieldTypeString, alias: Long Name, length: 100
)
-
units
(
type: esriFieldTypeString, alias: units, length: 100
)
-
institution
(
type: esriFieldTypeString, alias: institution, length: 255
)
-
shape
(
type: esriFieldTypeGeometry, alias: Shape
)
Default Mosaic Method: ByAttribute
Allowed Mosaic Methods: ByAttribute,NorthWest,Center,LockRaster,Nadir,Viewpoint,Seamline,None
SortField: StdTime
SortValue:
Mosaic Operator: First
Default Compression Quality: 10000
Default Resampling Method: Bilinear
Max Record Count: 1000
Max Image Height: 4100
Max Image Width: 15000
Max Download Image Count: 20
Max Mosaic Image Count: 10000
Allow Raster Function: true
Allow Copy: true
Allow Analysis: true
Allow Compute TiePoints: false
Supports Statistics: true
Supports Advanced Queries: true
Use StandardizedQueries: true
Raster Type Infos:
Name: Raster Dataset
Description: Supports all ArcGIS Raster Datasets
Help:
Has Raster Attribute Table: false
Edit Fields Info: null
Ownership Based AccessControl For Rasters: null
Child Resources:
Info
Statistics
Key Properties
Legend
Raster Function Infos
Multidimensional Info
Slices
Supported Operations:
Export Image
Query
Identify
Measure
Compute Histograms
Compute Statistics Histograms
Get Samples
Compute Class Statistics
Query Boundary
Compute Pixel Location
Compute Angles
Validate
Project