View In:
ArcGIS JavaScript
ArcGIS Online Map Viewer
ArcGIS Earth
ArcMap
View Footprint In:
ArcGIS Online Map Viewer
Service Description: POWER/power_801_climatology_legacy_lst
Name: POWER/power_801_climatology_legacy_lst
Description:
Single Fused Map Cache: false
Extent:
XMin: -2.0037507842788246E7
YMin: -3.024097145838615E7
XMax: 2.0037507842788246E7
YMax: 3.024097145838615E7
Spatial Reference: 102100
(3857)
Initial Extent:
XMin: -2.0037507842788246E7
YMin: -3.024097145838615E7
XMax: 2.0037507842788246E7
YMax: 3.024097145838615E7
Spatial Reference: 102100
(3857)
Full Extent:
XMin: -2.0037507842788246E7
YMin: -3.024097145838615E7
XMax: 2.0037507842788246E7
YMax: 3.024097145838615E7
Spatial Reference: 102100
(3857)
Time Info:
Start Time Field: StdTime
End Time Field: StdTime_Max
Time Extent:
[1981/12/31 00:00:00 UTC, 2013/12/30 11:59:59 UTC]
Time Reference:
N/A
Pixel Size X: 55659.744007745125
Pixel Size Y: 55641.161836957035
Band Count: 1
Pixel Type: F32
RasterFunction Infos: {"rasterFunctionInfos": [
{
"name": "cdd0",
"description": "A raster function template.",
"help": ""
},
{
"name": "cdd10",
"description": "A raster function template.",
"help": ""
},
{
"name": "cdd18_3",
"description": "A raster function template.",
"help": ""
},
{
"name": "hdd0",
"description": "A raster function template.",
"help": ""
},
{
"name": "hdd10",
"description": "A raster function template.",
"help": ""
},
{
"name": "hdd18_3",
"description": "A raster function template.",
"help": ""
},
{
"name": "prectotcorr",
"description": "A raster function template.",
"help": ""
},
{
"name": "ps",
"description": "A raster function template.",
"help": ""
},
{
"name": "qv2m",
"description": "A raster function template.",
"help": ""
},
{
"name": "rh2m",
"description": "A raster function template.",
"help": ""
},
{
"name": "t2m",
"description": "A raster function template.",
"help": ""
},
{
"name": "t2m_max",
"description": "A raster function template.",
"help": ""
},
{
"name": "t2m_min",
"description": "A raster function template.",
"help": ""
},
{
"name": "t2m_range",
"description": "A raster function template.",
"help": ""
},
{
"name": "t2mdew",
"description": "A raster function template.",
"help": ""
},
{
"name": "t2mwet",
"description": "A raster function template.",
"help": ""
},
{
"name": "t_zones",
"description": "A raster function template.",
"help": ""
},
{
"name": "tm_zones",
"description": "A raster function template.",
"help": ""
},
{
"name": "ts",
"description": "A raster function template.",
"help": ""
},
{
"name": "ws10m",
"description": "A raster function template.",
"help": ""
},
{
"name": "ws2m",
"description": "A raster function template.",
"help": ""
},
{
"name": "ws50m",
"description": "A raster function template.",
"help": ""
},
{
"name": "Aggregate Temperature Symbology",
"description": "Aggregate Temperature Symbology",
"help": ""
},
{
"name": "Aggregate Wind Symbology",
"description": "Aggregate Wind Symbology",
"help": ""
},
{
"name": "Cooling Heating Days Symbology",
"description": "Cooling Heating Days Symbology",
"help": ""
},
{
"name": "Parameter Prectotcorr Symbology",
"description": "Parameter Prectotcorr Symbology",
"help": ""
},
{
"name": "Relative Humidity at 2 Meters",
"description": "Relative Humidity at 2 Meters",
"help": ""
},
{
"name": "Specific Humidity at 2 Meters",
"description": "Specific Humidity at 2 Meters",
"help": ""
},
{
"name": "Surface Albedo",
"description": "Surface Albedo",
"help": ""
},
{
"name": "Surface Pressure",
"description": "Surface Pressure",
"help": ""
},
{
"name": "None",
"description": "",
"help": ""
}
]}
Mensuration Capabilities: Basic
Has Histograms: false
Has Colormap: false
Has Multi Dimensions : true
Rendering Rule:
Min Scale: 0
Max Scale: 0
Copyright Text:
Service Data Type: esriImageServiceDataTypeScientific
Min Values: N/A
Max Values: N/A
Mean Values: N/A
Standard Deviation Values: N/A
Object ID Field: objectid
Fields:
-
objectid
(
type: esriFieldTypeOID, alias: OBJECTID
)
-
name
(
type: esriFieldTypeString, alias: Name, length: 200
)
-
minps
(
type: esriFieldTypeDouble, alias: MinPS
)
-
maxps
(
type: esriFieldTypeDouble, alias: MaxPS
)
-
lowps
(
type: esriFieldTypeDouble, alias: LowPS
)
-
highps
(
type: esriFieldTypeDouble, alias: HighPS
)
-
category
(
type: esriFieldTypeInteger, alias: Category
, Coded Values:
[0: Unknown]
, [1: Primary]
, [2: Overview]
, ...6 more...
)
-
tag
(
type: esriFieldTypeString, alias: Tag, length: 100
)
-
groupname
(
type: esriFieldTypeString, alias: GroupName, length: 100
)
-
productname
(
type: esriFieldTypeString, alias: ProductName, length: 100
)
-
centerx
(
type: esriFieldTypeDouble, alias: CenterX
)
-
centery
(
type: esriFieldTypeDouble, alias: CenterY
)
-
zorder
(
type: esriFieldTypeInteger, alias: ZOrder
)
-
variable
(
type: esriFieldTypeString, alias: variable, length: 50
)
-
dimensions
(
type: esriFieldTypeString, alias: dimensions, length: 50
)
-
stdtime
(
type: esriFieldTypeDate, alias: stdtime, length: 8
)
-
stdtime_max
(
type: esriFieldTypeDate, alias: stdtime_max, length: 8
)
-
variable_name
(
type: esriFieldTypeString, alias: variable_name, length: 100
)
-
units
(
type: esriFieldTypeString, alias: units, length: 100
)
-
stdz
(
type: esriFieldTypeString, alias: stdz, length: 255
)
-
source
(
type: esriFieldTypeString, alias: source, length: 255
)
-
slice
(
type: esriFieldTypeString, alias: slice, length: 255
)
-
slice_alias
(
type: esriFieldTypeString, alias: slice_alias, length: 255
)
-
community
(
type: esriFieldTypeString, alias: community, length: 255
)
-
period
(
type: esriFieldTypeString, alias: period, length: 255
)
-
time
(
type: esriFieldTypeString, alias: time, length: 255
)
-
shape
(
type: esriFieldTypeGeometry, alias: Shape
)
Default Mosaic Method: ByAttribute
Allowed Mosaic Methods: ByAttribute,NorthWest,Center,LockRaster,Nadir,Viewpoint,Seamline,None
SortField: StdTime
SortValue:
Mosaic Operator: First
Default Compression Quality: 10000
Default Resampling Method: Bilinear
Max Record Count: 1000
Max Image Height: 4100
Max Image Width: 15000
Max Download Image Count: 20
Max Mosaic Image Count: 20
Allow Raster Function: true
Allow Copy: true
Allow Analysis: true
Allow Compute TiePoints: false
Supports Statistics: true
Supports Advanced Queries: true
Use StandardizedQueries: true
Raster Type Infos:
Name: NetCDF
Description: Supports netCDF data.
Help:
Name: Raster Dataset
Description: Supports all ArcGIS Raster Datasets
Help:
Has Raster Attribute Table: false
Edit Fields Info: null
Ownership Based AccessControl For Rasters: null
Child Resources:
Info
Statistics
Key Properties
Legend
Raster Function Infos
Multidimensional Info
Slices
Supported Operations:
Export Image
Query
Identify
Measure
Compute Histograms
Compute Statistics Histograms
Get Samples
Compute Class Statistics
Query Boundary
Compute Pixel Location
Compute Angles
Validate
Project