View In:
ArcGIS JavaScript
ArcGIS Online Map Viewer
ArcGIS Earth
ArcMap
View Footprint In:
ArcGIS Online Map Viewer
Service Description: The Prediction of Worldwide Energy Resource (POWER) Project is funded through the NASA Applied Sciences Program within the Earth Science Mission Directorate. The POWER Project supports three user communities with solar and/or meteorological data. This annual meteorology service provides time-enabled global Analysis Ready Data (ARD) from 1981 to 2021 for the POWER communities for assessing and designing renewable energy systems.
Name: POWER/power_901_annual_meterology_utc
Description: The Prediction of Worldwide Energy Resource (POWER) Project is funded through the NASA Applied Sciences Program within the Earth Science Mission Directorate. The POWER Project supports three user communities with solar and/or meteorological data. This annual meteorology service provides time-enabled global Analysis Ready Data (ARD) from 1981 to 2021 for the POWER communities for assessing and designing renewable energy systems.
Single Fused Map Cache: false
Extent:
XMin: -180.3125
YMin: -90.25
XMax: 179.6875
YMax: 90.25
Spatial Reference: 4326
(4326)
Initial Extent:
XMin: -180.3125
YMin: -90.25
XMax: 179.6875
YMax: 90.25
Spatial Reference: 4326
(4326)
Full Extent:
XMin: -180.3125
YMin: -90.25
XMax: 179.6875
YMax: 90.25
Spatial Reference: 4326
(4326)
Time Info:
Start Time Field: StdTime
End Time Field: StdTime
Time Extent:
[1981/12/31 00:00:00 UTC, 2021/12/30 16:48:00 UTC]
Time Reference:
N/A
Pixel Size X: 0.5
Pixel Size Y: 0.5
Band Count: 1
Pixel Type: F64
RasterFunction Infos: {"rasterFunctionInfos": [{
"name": "None",
"description": "",
"help": ""
}]}
Mensuration Capabilities: Basic
Has Histograms: true
Has Colormap: false
Has Multi Dimensions : true
Rendering Rule:
Min Scale: 0
Max Scale: 0
Copyright Text: NASA POWER
Service Data Type: esriImageServiceDataTypeScientific
Min Values: 0
Max Values: 8972.0625
Mean Values: 2224.8882386419177
Standard Deviation Values: 2508.1968623077223
Object ID Field:
Fields:
None
Default Mosaic Method: Center
Allowed Mosaic Methods:
SortField:
SortValue: null
Mosaic Operator: First
Default Compression Quality: 75
Default Resampling Method: Bilinear
Max Record Count: null
Max Image Height: 4100
Max Image Width: 15000
Max Download Image Count: null
Max Mosaic Image Count: null
Allow Raster Function: true
Allow Copy: true
Allow Analysis: true
Allow Compute TiePoints: false
Supports Statistics: false
Supports Advanced Queries: false
Use StandardizedQueries: true
Raster Type Infos:
Name: Raster Dataset
Description: Supports all ArcGIS Raster Datasets
Help:
Has Raster Attribute Table: false
Edit Fields Info: null
Ownership Based AccessControl For Rasters: null
Child Resources:
Info
Histograms
Statistics
Key Properties
Legend
Raster Function Infos
Multidimensional Info
Slices
Supported Operations:
Export Image
Identify
Measure
Compute Histograms
Compute Statistics Histograms
Get Samples
Compute Class Statistics
Query Boundary
Compute Pixel Location
Compute Angles
Validate
Project