View In:
ArcGIS JavaScript
ArcGIS Online Map Viewer
ArcGIS Earth
ArcMap
View Footprint In:
ArcGIS Online Map Viewer
Service Description: SATCORPS/gcc_final_100_hourly_bt_10_8um
Name: SATCORPS/gcc_final_100_hourly_bt_10_8um
Description:
Single Fused Map Cache: true
Tile Info:
- Height: 256
- Width: 256
- DPI: 96
-
Levels of Detail: 6
-
Level ID: 0
[ Start Tile, End Tile ]
- Resolution: 0.8887517481674383
- Scale: 3.7350969231677765E8
-
Level ID: 1
[ Start Tile, End Tile ]
- Resolution: 0.44437587408371915
- Scale: 1.8675484615838882E8
-
Level ID: 2
[ Start Tile, End Tile ]
- Resolution: 0.22218793704185957
- Scale: 9.337742307919441E7
-
Level ID: 3
[ Start Tile, End Tile ]
- Resolution: 0.11109396852092979
- Scale: 4.6688711539597206E7
-
Level ID: 4
[ Start Tile, End Tile ]
- Resolution: 0.05554698426046489
- Scale: 2.3344355769798603E7
-
Level ID: 5
[ Start Tile, End Tile ]
- Resolution: 0.027773492130232447
- Scale: 1.1672177884899301E7
- Format: LERC2D
- Compression Quality: 0.0
- LERC Error: 0.0
- Origin: X: -179.98611450195312
Y: 89.98611450195312
- Spatial Reference: 4326
(4326)
Storage Info:
- Storage Format: esriMapCacheStorageModeCompactV2
- Packet Size: 12
Extent:
XMin: -179.98611450195312
YMin: -89.98611450195312
XMax: 179.9861169979896
YMax: 89.98611450195312
Spatial Reference: 4326
(4326)
Initial Extent:
XMin: -179.98611450195312
YMin: -89.98611450195312
XMax: 179.9861169979896
YMax: 89.98611450195312
Spatial Reference: 4326
(4326)
Full Extent:
XMin: -179.98611450195312
YMin: -89.98611450195312
XMax: 179.9861169979896
YMax: 89.98611450195312
Spatial Reference: 4326
(4326)
Time Info:
Start Time Field: StdTime
End Time Field: StdTime
Time Extent:
[2019/07/15 00:30:00 UTC, 2019/07/15 23:30:00 UTC]
Time Reference:
N/A
Pixel Size X: 0.027773492130232447
Pixel Size Y: 0.027773492130232447
Band Count: 1
Pixel Type: F64
RasterFunction Infos: {"rasterFunctionInfos": [{
"name": "None",
"description": "Make a Raster or Raster Dataset into a Function Raster Dataset.",
"help": ""
}]}
Mensuration Capabilities: Basic
Has Histograms: true
Has Colormap: false
Has Multi Dimensions : true
Rendering Rule:
Min Scale: 0
Max Scale: 0
Copyright Text:
Service Data Type: esriImageServiceDataTypeScientific
Min Values: 180.9
Max Values: 336.64
Mean Values: 267.1611248168637
Standard Deviation Values: 24.723757861930856
Object ID Field:
Fields:
None
Default Mosaic Method: Center
Allowed Mosaic Methods:
SortField:
SortValue: null
Mosaic Operator: First
Default Compression Quality: 75
Default Resampling Method: Nearest
Max Record Count: null
Max Image Height: 4100
Max Image Width: 15000
Max Download Image Count: null
Max Mosaic Image Count: null
Allow Raster Function: true
Allow Copy: true
Allow Analysis: true
Allow Compute TiePoints: false
Supports Statistics: false
Supports Advanced Queries: false
Use StandardizedQueries: true
Raster Type Infos:
Name: Raster Dataset
Description: Supports all ArcGIS Raster Datasets
Help:
Has Raster Attribute Table: false
Edit Fields Info: null
Ownership Based AccessControl For Rasters: null
Child Resources:
Info
Histograms
Statistics
Key Properties
Legend
Raster Function Infos
Multidimensional Info
Slices
Supported Operations:
Export Image
Identify
Measure
Compute Histograms
Compute Statistics Histograms
Get Samples
Compute Class Statistics
Query Boundary
Compute Pixel Location
Compute Angles
Validate
Project