View In:
ArcGIS JavaScript
ArcGIS Online Map Viewer
ArcGIS Earth
ArcMap
View Footprint In:
ArcGIS Online Map Viewer
Service Description: smash/smash_oct_detect_safrica_monthly_ir_ot_hour_count
Name: smash/smash_oct_detect_safrica_monthly_ir_ot_hour_count
Description:
Single Fused Map Cache: false
Extent:
XMin: 12.999999590000073
YMin: -37.00892965999998
XMax: 36.00892890351189
YMax: -20.000000539999977
Spatial Reference: 4326
(4326)
Initial Extent:
XMin: 12.999999590000073
YMin: -37.00892965999998
XMax: 36.00892890351189
YMax: -20.000000539999977
Spatial Reference: 4326
(4326)
Full Extent:
XMin: 12.999999590000073
YMin: -37.00892965999998
XMax: 36.00892890351189
YMax: -20.000000539999977
Spatial Reference: 4326
(4326)
Time Info:
Start Time Field: StdTime
End Time Field: StdTime
Time Extent:
[2005/01/15 00:30:00 UTC, 2019/12/15 23:30:00 UTC]
Time Reference:
N/A
Pixel Size X: 0.0267857151496063
Pixel Size Y: 0.0267857151496063
Band Count: 1
Pixel Type: S8
RasterFunction Infos: {"rasterFunctionInfos": [{
"name": "None",
"description": "Make a Raster or Raster Dataset into a Function Raster Dataset.",
"help": ""
}]}
Mensuration Capabilities: Basic
Has Histograms: true
Has Colormap: false
Has Multi Dimensions : true
Rendering Rule:
Min Scale: 0
Max Scale: 0
Copyright Text:
Service Data Type: esriImageServiceDataTypeScientific
Min Values: 1
Max Values: 5
Mean Values: 1.0200988287236363
Standard Deviation Values: 0.14530150869965291
Object ID Field:
Fields:
None
Default Mosaic Method: Center
Allowed Mosaic Methods:
SortField:
SortValue: null
Mosaic Operator: First
Default Compression Quality: 75
Default Resampling Method: Nearest
Max Record Count: null
Max Image Height: 4100
Max Image Width: 15000
Max Download Image Count: null
Max Mosaic Image Count: null
Allow Raster Function: true
Allow Copy: true
Allow Analysis: true
Allow Compute TiePoints: false
Supports Statistics: false
Supports Advanced Queries: false
Use StandardizedQueries: true
Raster Type Infos:
Name: Raster Dataset
Description: Supports all ArcGIS Raster Datasets
Help:
Has Raster Attribute Table: false
Edit Fields Info: null
Ownership Based AccessControl For Rasters: null
Child Resources:
Info
Histograms
Statistics
Key Properties
Legend
Raster Function Infos
Multidimensional Info
Slices
Supported Operations:
Export Image
Identify
Measure
Compute Histograms
Compute Statistics Histograms
Get Samples
Compute Class Statistics
Query Boundary
Compute Pixel Location
Compute Angles
Validate
Project