View In:
ArcGIS JavaScript
ArcGIS Online Map Viewer
ArcGIS Earth
ArcMap
View Footprint In:
ArcGIS Online Map Viewer
Service Description: smash/smash_oct_detect_samerica_annual_full_cloud_top_height_99th_percentile
Name: smash/smash_oct_detect_samerica_annual_full_cloud_top_height_99th_percentile
Description:
Single Fused Map Cache: false
Extent:
XMin: -89.99999673058406
YMin: -45.00000054499732
XMax: -29.999996594263735
YMax: 14.999999591323007
Spatial Reference: 4326
(4326)
Initial Extent:
XMin: -89.99999673058406
YMin: -45.00000054499732
XMax: -29.999996594263735
YMax: 14.999999591323007
Spatial Reference: 4326
(4326)
Full Extent:
XMin: -89.99999673058406
YMin: -45.00000054499732
XMax: -29.999996594263735
YMax: 14.999999591323007
Spatial Reference: 4326
(4326)
Time Info:
Start Time Field: StdTime
End Time Field: StdTime
Time Extent:
[1995/06/01 00:00:00 UTC, 2021/06/01 00:00:00 UTC]
Time Reference:
N/A
Pixel Size X: 0.03571428579542876
Pixel Size Y: 0.03571428579542876
Band Count: 1
Pixel Type: F32
RasterFunction Infos: {"rasterFunctionInfos": [{
"name": "None",
"description": "Make a Raster or Raster Dataset into a Function Raster Dataset.",
"help": ""
}]}
Mensuration Capabilities: Basic
Has Histograms: true
Has Colormap: false
Has Multi Dimensions : true
Rendering Rule:
Min Scale: 0
Max Scale: 0
Copyright Text:
Service Data Type: esriImageServiceDataTypeScientific
Min Values: 10.136000633239746
Max Values: 21.47300148010254
Mean Values: 15.586341212351407
Standard Deviation Values: 1.334488183680756
Object ID Field:
Fields:
None
Default Mosaic Method: Center
Allowed Mosaic Methods:
SortField:
SortValue: null
Mosaic Operator: First
Default Compression Quality: 75
Default Resampling Method: Nearest
Max Record Count: null
Max Image Height: 4100
Max Image Width: 15000
Max Download Image Count: null
Max Mosaic Image Count: null
Allow Raster Function: true
Allow Copy: true
Allow Analysis: true
Allow Compute TiePoints: false
Supports Statistics: false
Supports Advanced Queries: false
Use StandardizedQueries: true
Raster Type Infos:
Name: Raster Dataset
Description: Supports all ArcGIS Raster Datasets
Help:
Has Raster Attribute Table: false
Edit Fields Info: null
Ownership Based AccessControl For Rasters: null
Child Resources:
Info
Histograms
Statistics
Key Properties
Legend
Raster Function Infos
Multidimensional Info
Slices
Supported Operations:
Export Image
Identify
Measure
Compute Histograms
Compute Statistics Histograms
Get Samples
Compute Class Statistics
Query Boundary
Compute Pixel Location
Compute Angles
Validate
Project