View In:
ArcGIS JavaScript
ArcGIS Online Map Viewer
ArcGIS Earth
ArcMap
View Footprint In:
ArcGIS Online Map Viewer
Service Description: smash/smash_trmm_lis_climatology_full_vhrfc_lis_frd
Name: smash/smash_trmm_lis_climatology_full_vhrfc_lis_frd
Description:
Single Fused Map Cache: false
Extent:
XMin: -180
YMin: -37.999999999999986
XMax: 179.99999999999994
YMax: 38
Spatial Reference: 4326
(4326)
Initial Extent:
XMin: -180
YMin: -37.999999999999986
XMax: 179.99999999999994
YMax: 38
Spatial Reference: 4326
(4326)
Full Extent:
XMin: -180
YMin: -37.999999999999986
XMax: 179.99999999999994
YMax: 38
Spatial Reference: 4326
(4326)
Pixel Size X: 0.09999999999999998
Pixel Size Y: 0.09999999999999998
Band Count: 1
Pixel Type: F32
RasterFunction Infos: {"rasterFunctionInfos": [{
"name": "None",
"description": "Make a Raster or Raster Dataset into a Function Raster Dataset.",
"help": ""
}]}
Mensuration Capabilities: Basic
Has Histograms: true
Has Colormap: false
Has Multi Dimensions : false
Rendering Rule:
Min Scale: 0
Max Scale: 0
Copyright Text:
Service Data Type: esriImageServiceDataTypeScientific
Min Values: 0
Max Values: 232.52394104003906
Mean Values: 3.295704478812318
Standard Deviation Values: 7.392016149414007
Object ID Field:
Fields:
None
Default Mosaic Method: Center
Allowed Mosaic Methods:
SortField:
SortValue: null
Mosaic Operator: First
Default Compression Quality: 75
Default Resampling Method: Nearest
Max Record Count: null
Max Image Height: 4100
Max Image Width: 15000
Max Download Image Count: null
Max Mosaic Image Count: null
Allow Raster Function: true
Allow Copy: true
Allow Analysis: true
Allow Compute TiePoints: false
Supports Statistics: false
Supports Advanced Queries: false
Use StandardizedQueries: true
Raster Type Infos:
Name: Raster Dataset
Description: Supports all ArcGIS Raster Datasets
Help:
Has Raster Attribute Table: false
Edit Fields Info: null
Ownership Based AccessControl For Rasters: null
Child Resources:
Info
Histograms
Statistics
Key Properties
Legend
Raster Function Infos
Supported Operations:
Export Image
Identify
Measure
Compute Histograms
Compute Statistics Histograms
Get Samples
Compute Class Statistics
Query Boundary
Compute Pixel Location
Compute Angles
Validate
Project